BEGIN:VCALENDAR
PRODID:-//AT Content Types//AT Event//EN
VERSION:2.0
METHOD:PUBLISH
BEGIN:VEVENT
DTSTAMP:20260423T012014Z
CREATED:20210907T133243Z
UID:ATEvent-a95c89a18edb40168bb4455803c78274
LAST-MODIFIED:20210909T105311Z
SUMMARY:Consultation Meeting
DTSTART:20211018T170000Z
DTEND:20211018T180000Z
DESCRIPTION:If you would like to attend the online consultation zoom m
 eeting please contact Helen Stanger at business@clare.norfolk.sch.uk
CLASS:PUBLIC
END:VEVENT
END:VCALENDAR
