BEGIN:VCALENDAR
PRODID:-//AT Content Types//AT Event//EN
VERSION:2.0
METHOD:PUBLISH
BEGIN:VEVENT
DTSTAMP:20260422T210644Z
CREATED:20190211T100023Z
UID:ATEvent-73acce3795cc4fd2895938cbe25109e2
LAST-MODIFIED:20190613T115019Z
SUMMARY:Consultation meeting
DTSTART:20190307T170000Z
DTEND:20190307T180000Z
DESCRIPTION:We are holding drop-in events\, where you can come and fin
 d out more about this proposal.
CLASS:PUBLIC
END:VEVENT
END:VCALENDAR
