BEGIN:VCALENDAR
PRODID:-//AT Content Types//AT Event//EN
VERSION:2.0
METHOD:PUBLISH
BEGIN:VEVENT
DTSTAMP:20260422T211304Z
CREATED:20190211T100023Z
UID:ATEvent-6d3db91da11b4ead9b30f1037f5514da
LAST-MODIFIED:20190613T115019Z
SUMMARY:Consultation meeting
DTSTART:20190228T140000Z
DTEND:20190228T150000Z
DESCRIPTION:We are holding drop-in events\, where you can come and fin
 d out more about this proposal.
CLASS:PUBLIC
END:VEVENT
END:VCALENDAR
