BEGIN:VCALENDAR
PRODID:-//AT Content Types//AT Event//EN
VERSION:2.0
METHOD:PUBLISH
BEGIN:VEVENT
DTSTAMP:20260422T224126Z
CREATED:20190905T104654Z
UID:ATEvent-6240e714c1de4986b4fcdf8b2a4d3b42
LAST-MODIFIED:20191212T155901Z
SUMMARY:Consultation Meeting
DTSTART:20190925T173000Z
DTEND:20190925T183000Z
DESCRIPTION:We are holding drop-in events\, where you can come and fin
 d out more about this proposal.
CLASS:PUBLIC
END:VEVENT
END:VCALENDAR
