BEGIN:VCALENDAR
PRODID:-//AT Content Types//AT Event//EN
VERSION:2.0
METHOD:PUBLISH
BEGIN:VEVENT
DTSTAMP:20260422T224247Z
CREATED:20190905T104654Z
UID:ATEvent-fe413f1684d64e3fbb7a147f1c4a3798
LAST-MODIFIED:20191212T155901Z
SUMMARY:Consultation Meeting
DTSTART:20190916T080000Z
DTEND:20190916T090000Z
DESCRIPTION:We are holding drop-in events\, where you can come and fin
 d out more about this proposal.
CLASS:PUBLIC
END:VEVENT
END:VCALENDAR
