BEGIN:VCALENDAR
PRODID:-//AT Content Types//AT Event//EN
VERSION:2.0
METHOD:PUBLISH
BEGIN:VEVENT
DTSTAMP:20260425T120234Z
CREATED:20240530T135731Z
UID:ATEvent-bf89c3aae9c84064892ff9054649daa5
LAST-MODIFIED:20240822T145851Z
SUMMARY:Consultation Event
DTSTART:20240611T081500Z
DTEND:20240611T091500Z
DESCRIPTION:There will be a meeting for parents/carers and other inter
 ested members of the community at Northgate Primary School
CLASS:PUBLIC
END:VEVENT
END:VCALENDAR
