BEGIN:VCALENDAR
PRODID:-//AT Content Types//AT Event//EN
VERSION:2.0
METHOD:PUBLISH
BEGIN:VEVENT
DTSTAMP:20260423T053050Z
CREATED:20230518T140940Z
UID:ATEvent-768c2d8b30eb413aa09097163a942a7c
LAST-MODIFIED:20230522T133232Z
SUMMARY:Drop in Event
DTSTART:20230613T130000Z
DTEND:20230613T140000Z
CLASS:PUBLIC
END:VEVENT
END:VCALENDAR
