BEGIN:VCALENDAR
PRODID:-//AT Content Types//AT Event//EN
VERSION:2.0
METHOD:PUBLISH
BEGIN:VEVENT
DTSTAMP:20260423T053236Z
CREATED:20230518T135119Z
UID:ATEvent-b4489de0b6724695a80d39c94250fe7e
LAST-MODIFIED:20230522T133232Z
SUMMARY:Drop in Event
DTSTART:20230613T081500Z
DTEND:20230613T091500Z
DESCRIPTION:We are holding 2 drop in events\, where you can come and f
 ind out more about this proposal and look at the proposed plans for th
 e capital project.
CLASS:PUBLIC
END:VEVENT
END:VCALENDAR
