BEGIN:VCALENDAR
PRODID:-//AT Content Types//AT Event//EN
VERSION:2.0
METHOD:PUBLISH
BEGIN:VEVENT
DTSTAMP:20260423T072328Z
CREATED:20230801T121232Z
UID:ATEvent-5d882be5363c4d9abc0ba1bde4d2e445
LAST-MODIFIED:20231212T115255Z
SUMMARY:Consultation Event
DTSTART:20230921T144000Z
DTEND:20230921T154000Z
DESCRIPTION:There will be a meeting for parents/carers and other inter
 ested members of the community at Great Massingham C of E Primary Scho
 ol
CLASS:PUBLIC
END:VEVENT
END:VCALENDAR
