BEGIN:VCALENDAR
PRODID:-//AT Content Types//AT Event//EN
VERSION:2.0
METHOD:PUBLISH
BEGIN:VEVENT
DTSTAMP:20260423T041340Z
CREATED:20230302T151523Z
UID:ATEvent-3a4f2e052f4d408bbcf76376025879fa
LAST-MODIFIED:20230729T121932Z
SUMMARY:Virtual Consultation Event
DTSTART:20230328T170000Z
DTEND:20230328T180000Z
DESCRIPTION:Find out more about this proposal. If you would like to jo
 in this event\, please contact Caroline Money for the joining details\
 , by emailing schoolreview@norfolk.gov.uk
CLASS:PUBLIC
END:VEVENT
END:VCALENDAR
