BEGIN:VCALENDAR
PRODID:-//AT Content Types//AT Event//EN
VERSION:2.0
METHOD:PUBLISH
BEGIN:VEVENT
DTSTAMP:20260425T181632Z
CREATED:20221207T152305Z
UID:ATEvent-01bb5425e683477f9355adf22ecfc46a
LAST-MODIFIED:20230106T090743Z
SUMMARY:Consultation Event
DTSTART:20230222T153000Z
DTEND:20230222T163000Z
DESCRIPTION:Consultation Meeting (Via Zoom) - please email admin@dersi
 ngham.norfolk.sch.uk for more information
CLASS:PUBLIC
END:VEVENT
END:VCALENDAR
