BEGIN:VCALENDAR
PRODID:-//AT Content Types//AT Event//EN
VERSION:2.0
METHOD:PUBLISH
BEGIN:VEVENT
DTSTAMP:20260422T125655Z
CREATED:20250512T110627Z
UID:ATEvent-0d31b134bcd346a8a5f9175be4540df4
LAST-MODIFIED:20250718T104343Z
SUMMARY:Drop in Session
DTSTART:20250520T131500Z
DTEND:20250520T141500Z
DESCRIPTION:Drop in Session at Freethorpe Community Primary School
CLASS:PUBLIC
END:VEVENT
END:VCALENDAR
