BEGIN:VCALENDAR
PRODID:-//AT Content Types//AT Event//EN
VERSION:2.0
METHOD:PUBLISH
BEGIN:VEVENT
DTSTAMP:20260422T125716Z
CREATED:20250512T110627Z
UID:ATEvent-19bd672ecc76499a8eaf5dc6c7c9ec0f
LAST-MODIFIED:20250718T104343Z
SUMMARY:Drop in Session
DTSTART:20250519T131500Z
DTEND:20250519T141500Z
DESCRIPTION:Drop in Session at Cantley Primary School
CLASS:PUBLIC
END:VEVENT
END:VCALENDAR
