BEGIN:VCALENDAR
PRODID:-//AT Content Types//AT Event//EN
VERSION:2.0
METHOD:PUBLISH
BEGIN:VEVENT
DTSTAMP:20260425T104310Z
CREATED:20240408T122718Z
UID:ATEvent-a2a1dc8754464ef788101442e6df9a62
LAST-MODIFIED:20250130T115501Z
SUMMARY:Consultation Event - Homefield CE VC Primary School
DTSTART:20240430T073000Z
DTEND:20240430T083000Z
DESCRIPTION:There will be a meeting for parents/carers of all three sc
 hools and other interested members of the community
CLASS:PUBLIC
END:VEVENT
END:VCALENDAR
