BEGIN:VCALENDAR
PRODID:-//AT Content Types//AT Event//EN
VERSION:2.0
METHOD:PUBLISH
BEGIN:VEVENT
DTSTAMP:20260425T182142Z
CREATED:20230104T153918Z
UID:ATEvent-a33dfa0b4a6d46c7800af820ff0cac3e
LAST-MODIFIED:20230616T091252Z
SUMMARY:Drop in Consultation Event - Blofield Primary School
DTSTART:20230117T141500Z
DTEND:20230117T151500Z
DESCRIPTION:Find out more about this proposal.
CLASS:PUBLIC
END:VEVENT
END:VCALENDAR
