BEGIN:VCALENDAR
PRODID:-//AT Content Types//AT Event//EN
VERSION:2.0
METHOD:PUBLISH
BEGIN:VEVENT
DTSTAMP:20260423T024628Z
CREATED:20220910T100329Z
UID:ATEvent-9187dcc97783463b86ee75a182c49c8b
LAST-MODIFIED:20220912T095734Z
SUMMARY:Drop in consultation session
DTSTART:20220922T160000Z
DTEND:20220922T170000Z
DESCRIPTION:Please join us to find out more about our proposal.
CLASS:PUBLIC
END:VEVENT
END:VCALENDAR
